Package: STATegRa Version: 1.47.0 Command: /Library/Frameworks/R.framework/Resources/bin/R CMD INSTALL STATegRa StartedAt: 2025-11-13 15:07:01 -0500 (Thu, 13 Nov 2025) EndedAt: 2025-11-13 15:07:06 -0500 (Thu, 13 Nov 2025) EllapsedTime: 4.7 seconds RetCode: 0 Status: OK