Package: STATegRa Version: 1.47.0 Command: /Library/Frameworks/R.framework/Resources/bin/R CMD build --keep-empty-dirs --no-resave-data STATegRa StartedAt: 2025-11-13 17:53:00 -0500 (Thu, 13 Nov 2025) EndedAt: 2025-11-13 17:53:52 -0500 (Thu, 13 Nov 2025) EllapsedTime: 51.6 seconds RetCode: 0 Status: OK PackageFile: STATegRa_1.47.0.tar.gz PackageFileSize: 5.178 MiB