Package: STATegRa Version: 1.47.0 Command: rm -rf STATegRa.buildbin-libdir && mkdir STATegRa.buildbin-libdir && /Users/biocbuild/BBS/utils/build-universal.sh STATegRa_1.47.0.tar.gz /Library/Frameworks/R.framework/Resources/bin/R STATegRa.buildbin-libdir StartedAt: 2025-11-13 23:58:40 -0500 (Thu, 13 Nov 2025) EndedAt: 2025-11-13 23:58:47 -0500 (Thu, 13 Nov 2025) EllapsedTime: 7.1 seconds RetCode: 0 Status: OK PackageFile: STATegRa_1.47.0.tgz PackageFileSize: 4.883 MiB