Package: STATegRa Version: 1.47.0 Maintainer: David Gomez-Cabrero , NĂºria Planell MaintainerEmail: nuria.planell.picola at navarra.es git_url: https://git.bioconductor.org/packages/STATegRa git_branch: devel git_last_commit: 1932640 git_last_commit_date: 2025-10-29 10:22:24 -0500 (Wed, 29 Oct 2025)