Package: SRAdb Version: 1.73.0 Command: rm -rf SRAdb.buildbin-libdir && mkdir SRAdb.buildbin-libdir && /Users/biocbuild/BBS/utils/build-universal.sh SRAdb_1.73.0.tar.gz /Library/Frameworks/R.framework/Resources/bin/R SRAdb.buildbin-libdir StartedAt: 2025-11-14 23:53:46 -0500 (Fri, 14 Nov 2025) EndedAt: 2025-11-14 23:53:50 -0500 (Fri, 14 Nov 2025) EllapsedTime: 4.1 seconds RetCode: 0 Status: OK PackageFile: SRAdb_1.73.0.tgz PackageFileSize: 848.1 KiB