Package: SQLDataFrame Version: 1.25.0 Command: /Library/Frameworks/R.framework/Resources/bin/R CMD INSTALL SQLDataFrame StartedAt: 2025-11-13 15:08:09 -0500 (Thu, 13 Nov 2025) EndedAt: 2025-11-13 15:08:16 -0500 (Thu, 13 Nov 2025) EllapsedTime: 7.3 seconds RetCode: 0 Status: OK