Package: SQLDataFrame Version: 1.25.0 Command: /Library/Frameworks/R.framework/Resources/bin/R CMD check --install=check:SQLDataFrame.install-out.txt --library=/Library/Frameworks/R.framework/Resources/library --no-vignettes --timings SQLDataFrame_1.25.0.tar.gz StartedAt: 2025-11-13 22:50:55 -0500 (Thu, 13 Nov 2025) EndedAt: 2025-11-13 22:52:06 -0500 (Thu, 13 Nov 2025) EllapsedTime: 70.8 seconds RetCode: 1 Status: ERROR CheckDir: SQLDataFrame.Rcheck Warnings: NA