Package: SQLDataFrame Version: 1.25.0 Command: /Library/Frameworks/R.framework/Resources/bin/R CMD build --keep-empty-dirs --no-resave-data SQLDataFrame StartedAt: 2025-11-13 17:51:59 -0500 (Thu, 13 Nov 2025) EndedAt: 2025-11-13 17:52:13 -0500 (Thu, 13 Nov 2025) EllapsedTime: 14.1 seconds RetCode: 0 Status: OK PackageFile: SQLDataFrame_1.25.0.tar.gz PackageFileSize: 234.9 KiB