Package: SQLDataFrame Version: 1.25.0 Command: rm -rf SQLDataFrame.buildbin-libdir && mkdir SQLDataFrame.buildbin-libdir && /Users/biocbuild/BBS/utils/build-universal.sh SQLDataFrame_1.25.0.tar.gz /Library/Frameworks/R.framework/Resources/bin/R SQLDataFrame.buildbin-libdir StartedAt: 2025-11-14 23:53:44 -0500 (Fri, 14 Nov 2025) EndedAt: 2025-11-14 23:53:54 -0500 (Fri, 14 Nov 2025) EllapsedTime: 9.2 seconds RetCode: 0 Status: OK PackageFile: SQLDataFrame_1.25.0.tgz PackageFileSize: 573 KiB