Package: SPsimSeq Version: 1.21.0 Command: /home/biocbuild/bbs-3.23-bioc/R/bin/R CMD build --keep-empty-dirs --no-resave-data SPsimSeq StartedAt: 2025-11-13 20:20:05 -0500 (Thu, 13 Nov 2025) EndedAt: 2025-11-13 20:23:54 -0500 (Thu, 13 Nov 2025) EllapsedTime: 229.3 seconds RetCode: 0 Status: OK PackageFile: SPsimSeq_1.21.0.tar.gz PackageFileSize: 766.2 KiB