Package: SPsimSeq Version: 1.21.0 Command: /Library/Frameworks/R.framework/Resources/bin/R CMD check --install=check:SPsimSeq.install-out.txt --library=/Library/Frameworks/R.framework/Resources/library --no-vignettes --timings SPsimSeq_1.21.0.tar.gz StartedAt: 2025-11-14 22:46:03 -0500 (Fri, 14 Nov 2025) EndedAt: 2025-11-14 22:48:43 -0500 (Fri, 14 Nov 2025) EllapsedTime: 159.9 seconds RetCode: 0 Status: OK CheckDir: SPsimSeq.Rcheck Warnings: 0