Package: SPsimSeq Version: 1.21.0 Command: /Library/Frameworks/R.framework/Resources/bin/R CMD build --keep-empty-dirs --no-resave-data SPsimSeq StartedAt: 2025-11-13 17:51:51 -0500 (Thu, 13 Nov 2025) EndedAt: 2025-11-13 17:53:15 -0500 (Thu, 13 Nov 2025) EllapsedTime: 84.0 seconds RetCode: 0 Status: OK PackageFile: SPsimSeq_1.21.0.tar.gz PackageFileSize: 774.8 KiB