Package: SPOTlight Version: 1.15.0 Command: /Library/Frameworks/R.framework/Resources/bin/R CMD build --keep-empty-dirs --no-resave-data SPOTlight StartedAt: 2025-11-12 17:18:31 -0500 (Wed, 12 Nov 2025) EndedAt: 2025-11-12 17:18:51 -0500 (Wed, 12 Nov 2025) EllapsedTime: 20.2 seconds RetCode: 1 Status: ERROR PackageFile: None PackageFileSize: NA