Package: SPONGE Version: 1.33.0 Command: /Library/Frameworks/R.framework/Resources/bin/R CMD INSTALL SPONGE StartedAt: 2025-11-14 15:10:07 -0500 (Fri, 14 Nov 2025) EndedAt: 2025-11-14 15:10:43 -0500 (Fri, 14 Nov 2025) EllapsedTime: 36.0 seconds RetCode: 0 Status: OK