Package: SPONGE Version: 1.33.0 Command: /Library/Frameworks/R.framework/Resources/bin/R CMD build --keep-empty-dirs --no-resave-data SPONGE StartedAt: 2025-11-14 17:48:22 -0500 (Fri, 14 Nov 2025) EndedAt: 2025-11-14 17:49:58 -0500 (Fri, 14 Nov 2025) EllapsedTime: 96.1 seconds RetCode: 0 Status: OK PackageFile: SPONGE_1.33.0.tar.gz PackageFileSize: 8.977 MiB