Package: SPONGE Version: 1.33.0 Command: rm -rf SPONGE.buildbin-libdir && mkdir SPONGE.buildbin-libdir && /Users/biocbuild/BBS/utils/build-universal.sh SPONGE_1.33.0.tar.gz /Library/Frameworks/R.framework/Resources/bin/R SPONGE.buildbin-libdir StartedAt: 2025-11-14 23:53:34 -0500 (Fri, 14 Nov 2025) EndedAt: 2025-11-14 23:54:17 -0500 (Fri, 14 Nov 2025) EllapsedTime: 43.0 seconds RetCode: 0 Status: OK PackageFile: SPONGE_1.33.0.tgz PackageFileSize: 8.737 MiB