Package: SPLINTER Version: 1.37.0 Command: /home/biocbuild/bbs-3.23-bioc/R/bin/R CMD INSTALL SPLINTER StartedAt: 2025-11-13 15:50:43 -0500 (Thu, 13 Nov 2025) EndedAt: 2025-11-13 15:51:32 -0500 (Thu, 13 Nov 2025) EllapsedTime: 49.1 seconds RetCode: 0 Status: OK