Package: SPLINTER Version: 1.37.0 Command: /home/biocbuild/bbs-3.23-bioc/R/bin/R CMD build --keep-empty-dirs --no-resave-data SPLINTER StartedAt: 2025-11-13 20:17:58 -0500 (Thu, 13 Nov 2025) EndedAt: 2025-11-13 20:19:33 -0500 (Thu, 13 Nov 2025) EllapsedTime: 95.0 seconds RetCode: 0 Status: OK PackageFile: SPLINTER_1.37.0.tar.gz PackageFileSize: 961.3 KiB