Package: SPLINTER Version: 1.37.0 Command: /Library/Frameworks/R.framework/Resources/bin/R CMD INSTALL SPLINTER StartedAt: 2025-11-13 15:28:41 -0500 (Thu, 13 Nov 2025) EndedAt: 2025-11-13 15:29:01 -0500 (Thu, 13 Nov 2025) EllapsedTime: 20.7 seconds RetCode: 0 Status: OK