Package: SPICEY Version: 1.1.0 Command: /Library/Frameworks/R.framework/Resources/bin/R CMD INSTALL SPICEY StartedAt: 2025-11-13 15:22:33 -0500 (Thu, 13 Nov 2025) EndedAt: 2025-11-13 15:22:37 -0500 (Thu, 13 Nov 2025) EllapsedTime: 4.8 seconds RetCode: 0 Status: OK