Package: SPICEY Version: 1.1.0 Command: /Library/Frameworks/R.framework/Resources/bin/R CMD build --keep-empty-dirs --no-resave-data SPICEY StartedAt: 2025-11-13 17:49:48 -0500 (Thu, 13 Nov 2025) EndedAt: 2025-11-13 17:50:09 -0500 (Thu, 13 Nov 2025) EllapsedTime: 21.3 seconds RetCode: 0 Status: OK PackageFile: SPICEY_1.1.0.tar.gz PackageFileSize: 1003 KiB