Package: SPICEY Version: 1.1.0 Command: rm -rf SPICEY.buildbin-libdir && mkdir SPICEY.buildbin-libdir && /Users/biocbuild/BBS/utils/build-universal.sh SPICEY_1.1.0.tar.gz /Library/Frameworks/R.framework/Resources/bin/R SPICEY.buildbin-libdir StartedAt: 2025-11-13 23:58:09 -0500 (Thu, 13 Nov 2025) EndedAt: 2025-11-13 23:58:16 -0500 (Thu, 13 Nov 2025) EllapsedTime: 6.2 seconds RetCode: 0 Status: OK PackageFile: SPICEY_1.1.0.tgz PackageFileSize: 1.036 MiB