Package: SPIAT Version: 1.13.0 Command: /Library/Frameworks/R.framework/Resources/bin/R CMD INSTALL SPIAT StartedAt: 2025-11-12 15:27:21 -0500 (Wed, 12 Nov 2025) EndedAt: 2025-11-12 15:27:32 -0500 (Wed, 12 Nov 2025) EllapsedTime: 11.6 seconds RetCode: 0 Status: OK