Package: SPIAT Version: 1.13.0 Maintainer: Yuzhou Feng MaintainerEmail: yuzhou0610 at gmail.com git_url: https://git.bioconductor.org/packages/SPIAT git_branch: devel git_last_commit: 8dff5b8 git_last_commit_date: 2025-10-29 11:18:57 -0500 (Wed, 29 Oct 2025)