Package: SPIA Version: 2.63.0 Command: /Library/Frameworks/R.framework/Resources/bin/R CMD INSTALL SPIA StartedAt: 2025-11-14 15:09:24 -0500 (Fri, 14 Nov 2025) EndedAt: 2025-11-14 15:09:25 -0500 (Fri, 14 Nov 2025) EllapsedTime: 1.9 seconds RetCode: 0 Status: OK