Package: SPIA Version: 2.63.0 Command: /Library/Frameworks/R.framework/Resources/bin/R CMD build --keep-empty-dirs --no-resave-data SPIA StartedAt: 2025-11-14 17:46:46 -0500 (Fri, 14 Nov 2025) EndedAt: 2025-11-14 17:47:54 -0500 (Fri, 14 Nov 2025) EllapsedTime: 67.8 seconds RetCode: 0 Status: OK PackageFile: SPIA_2.63.0.tar.gz PackageFileSize: 2.549 MiB