Package: SPIA Version: 2.63.0 Command: rm -rf SPIA.buildbin-libdir && mkdir SPIA.buildbin-libdir && /Users/biocbuild/BBS/utils/build-universal.sh SPIA_2.63.0.tar.gz /Library/Frameworks/R.framework/Resources/bin/R SPIA.buildbin-libdir StartedAt: 2025-11-14 23:53:23 -0500 (Fri, 14 Nov 2025) EndedAt: 2025-11-14 23:53:27 -0500 (Fri, 14 Nov 2025) EllapsedTime: 4.1 seconds RetCode: 0 Status: OK PackageFile: SPIA_2.63.0.tgz PackageFileSize: 2.537 MiB