Package: SPEM Version: 1.51.0 Command: /home/biocbuild/bbs-3.23-bioc/R/bin/R CMD INSTALL SPEM StartedAt: 2025-11-14 15:14:45 -0500 (Fri, 14 Nov 2025) EndedAt: 2025-11-14 15:14:52 -0500 (Fri, 14 Nov 2025) EllapsedTime: 6.8 seconds RetCode: 0 Status: OK