Package: SPEM Version: 1.51.0 Command: /Library/Frameworks/R.framework/Resources/bin/R CMD INSTALL SPEM StartedAt: 2025-11-14 15:08:16 -0500 (Fri, 14 Nov 2025) EndedAt: 2025-11-14 15:08:18 -0500 (Fri, 14 Nov 2025) EllapsedTime: 2.2 seconds RetCode: 0 Status: OK