Package: SPEM Version: 1.51.0 Command: /Library/Frameworks/R.framework/Resources/bin/R CMD build --keep-empty-dirs --no-resave-data SPEM StartedAt: 2025-11-14 17:46:46 -0500 (Fri, 14 Nov 2025) EndedAt: 2025-11-14 17:46:52 -0500 (Fri, 14 Nov 2025) EllapsedTime: 6.1 seconds RetCode: 0 Status: OK PackageFile: SPEM_1.51.0.tar.gz PackageFileSize: 601.1 KiB