Package: SPEM Version: 1.51.0 Command: rm -rf SPEM.buildbin-libdir && mkdir SPEM.buildbin-libdir && /Users/biocbuild/BBS/utils/build-universal.sh SPEM_1.51.0.tar.gz /Library/Frameworks/R.framework/Resources/bin/R SPEM.buildbin-libdir StartedAt: 2025-11-14 23:53:23 -0500 (Fri, 14 Nov 2025) EndedAt: 2025-11-14 23:53:26 -0500 (Fri, 14 Nov 2025) EllapsedTime: 3.1 seconds RetCode: 0 Status: OK PackageFile: SPEM_1.51.0.tgz PackageFileSize: 499.3 KiB