Package: SPEM Version: 1.51.0 Maintainer: Xinyi YANG MaintainerEmail: yangxinyi at picb.ac.cn git_url: https://git.bioconductor.org/packages/SPEM git_branch: devel git_last_commit: 6218bd4 git_last_commit_date: 2025-10-29 10:14:09 -0500 (Wed, 29 Oct 2025)