Package: SOMNiBUS Version: 1.19.0 Command: /home/biocbuild/bbs-3.23-bioc/R/bin/R CMD INSTALL SOMNiBUS StartedAt: 2025-11-14 15:43:54 -0500 (Fri, 14 Nov 2025) EndedAt: 2025-11-14 15:44:43 -0500 (Fri, 14 Nov 2025) EllapsedTime: 49.0 seconds RetCode: 0 Status: OK