Package: SOMNiBUS Version: 1.19.0 Command: /home/biocbuild/bbs-3.23-bioc/R/bin/R CMD build --keep-empty-dirs --no-resave-data SOMNiBUS StartedAt: 2025-11-14 20:10:28 -0500 (Fri, 14 Nov 2025) EndedAt: 2025-11-14 20:14:42 -0500 (Fri, 14 Nov 2025) EllapsedTime: 254.2 seconds RetCode: 0 Status: OK PackageFile: SOMNiBUS_1.19.0.tar.gz PackageFileSize: 1.111 MiB