Package: SOMNiBUS Version: 1.19.0 Command: /Library/Frameworks/R.framework/Resources/bin/R CMD build --keep-empty-dirs --no-resave-data SOMNiBUS StartedAt: 2025-11-14 17:43:19 -0500 (Fri, 14 Nov 2025) EndedAt: 2025-11-14 17:45:05 -0500 (Fri, 14 Nov 2025) EllapsedTime: 106.2 seconds RetCode: 0 Status: OK PackageFile: SOMNiBUS_1.19.0.tar.gz PackageFileSize: 1.034 MiB