Package: SOMNiBUS Version: 1.19.0 Command: rm -rf SOMNiBUS.buildbin-libdir && mkdir SOMNiBUS.buildbin-libdir && /Users/biocbuild/BBS/utils/build-universal.sh SOMNiBUS_1.19.0.tar.gz /Library/Frameworks/R.framework/Resources/bin/R SOMNiBUS.buildbin-libdir StartedAt: 2025-11-14 23:52:51 -0500 (Fri, 14 Nov 2025) EndedAt: 2025-11-14 23:53:16 -0500 (Fri, 14 Nov 2025) EllapsedTime: 24.5 seconds RetCode: 0 Status: OK PackageFile: SOMNiBUS_1.19.0.tgz PackageFileSize: 639.1 KiB