Package: SOMNiBUS Version: 1.19.0 Maintainer: Kathleen Klein MaintainerEmail: kathleen.klein at mail.mcgill.ca git_url: https://git.bioconductor.org/packages/SOMNiBUS git_branch: devel git_last_commit: 62fb14c git_last_commit_date: 2025-10-29 11:05:55 -0500 (Wed, 29 Oct 2025)