Package: SNPediaR Version: 1.37.0 Command: /Library/Frameworks/R.framework/Resources/bin/R CMD INSTALL SNPediaR StartedAt: 2025-11-14 15:02:04 -0500 (Fri, 14 Nov 2025) EndedAt: 2025-11-14 15:02:06 -0500 (Fri, 14 Nov 2025) EllapsedTime: 1.8 seconds RetCode: 0 Status: OK