Package: SNPediaR Version: 1.37.0 Command: /Library/Frameworks/R.framework/Resources/bin/R CMD build --keep-empty-dirs --no-resave-data SNPediaR StartedAt: 2025-11-14 17:42:51 -0500 (Fri, 14 Nov 2025) EndedAt: 2025-11-14 17:42:58 -0500 (Fri, 14 Nov 2025) EllapsedTime: 7.1 seconds RetCode: 0 Status: OK PackageFile: SNPediaR_1.37.0.tar.gz PackageFileSize: 230.4 KiB