Package: SNAGEE Version: 1.51.0 Command: rm -rf SNAGEE.buildbin-libdir && mkdir SNAGEE.buildbin-libdir && /Users/biocbuild/BBS/utils/build-universal.sh SNAGEE_1.51.0.tar.gz /Library/Frameworks/R.framework/Resources/bin/R SNAGEE.buildbin-libdir StartedAt: 2025-11-14 23:52:46 -0500 (Fri, 14 Nov 2025) EndedAt: 2025-11-14 23:52:48 -0500 (Fri, 14 Nov 2025) EllapsedTime: 2.1 seconds RetCode: 0 Status: OK PackageFile: SNAGEE_1.51.0.tgz PackageFileSize: 187.6 KiB