Package: SLqPCR Version: 1.77.0 Command: /Library/Frameworks/R.framework/Resources/bin/R CMD build --keep-empty-dirs --no-resave-data SLqPCR StartedAt: 2025-11-13 17:45:00 -0500 (Thu, 13 Nov 2025) EndedAt: 2025-11-13 17:45:04 -0500 (Thu, 13 Nov 2025) EllapsedTime: 4.0 seconds RetCode: 0 Status: OK PackageFile: SLqPCR_1.77.0.tar.gz PackageFileSize: 220.9 KiB