Package: SLqPCR Version: 1.77.0 Command: rm -rf SLqPCR.buildbin-libdir && mkdir SLqPCR.buildbin-libdir && /Users/biocbuild/BBS/utils/build-universal.sh SLqPCR_1.77.0.tar.gz /Library/Frameworks/R.framework/Resources/bin/R SLqPCR.buildbin-libdir StartedAt: 2025-11-13 23:57:22 -0500 (Thu, 13 Nov 2025) EndedAt: 2025-11-13 23:57:24 -0500 (Thu, 13 Nov 2025) EllapsedTime: 2.0 seconds RetCode: 0 Status: OK PackageFile: SLqPCR_1.77.0.tgz PackageFileSize: 237.2 KiB