Package: SLqPCR Version: 1.77.0 Maintainer: Matthias Kohl MaintainerEmail: kohl at sirs-lab.com git_url: https://git.bioconductor.org/packages/SLqPCR git_branch: devel git_last_commit: 1186231 git_last_commit_date: 2025-10-29 09:59:13 -0500 (Wed, 29 Oct 2025)