Package: SIMLR Version: 1.37.0 Command: /home/biocbuild/bbs-3.23-bioc/R/bin/R CMD build --keep-empty-dirs --no-resave-data SIMLR StartedAt: 2025-11-13 20:05:16 -0500 (Thu, 13 Nov 2025) EndedAt: 2025-11-13 20:07:05 -0500 (Thu, 13 Nov 2025) EllapsedTime: 109.1 seconds RetCode: 0 Status: OK PackageFile: SIMLR_1.37.0.tar.gz PackageFileSize: 4.12 MiB