Package: SIMLR Version: 1.37.0 Command: /Library/Frameworks/R.framework/Resources/bin/R CMD INSTALL SIMLR StartedAt: 2025-11-12 15:17:39 -0500 (Wed, 12 Nov 2025) EndedAt: 2025-11-12 15:17:47 -0500 (Wed, 12 Nov 2025) EllapsedTime: 7.7 seconds RetCode: 0 Status: OK