Package: SIMLR Version: 1.37.0 Command: /Library/Frameworks/R.framework/Resources/bin/R CMD build --keep-empty-dirs --no-resave-data SIMLR StartedAt: 2025-11-12 17:13:58 -0500 (Wed, 12 Nov 2025) EndedAt: 2025-11-12 17:14:25 -0500 (Wed, 12 Nov 2025) EllapsedTime: 26.4 seconds RetCode: 0 Status: OK PackageFile: SIMLR_1.37.0.tar.gz PackageFileSize: 4.126 MiB