Package: SIMLR Version: 1.37.0 Command: rm -rf SIMLR.buildbin-libdir && mkdir SIMLR.buildbin-libdir && /Users/biocbuild/BBS/utils/build-universal.sh SIMLR_1.37.0.tar.gz /Library/Frameworks/R.framework/Resources/bin/R SIMLR.buildbin-libdir StartedAt: 2025-11-13 23:57:02 -0500 (Thu, 13 Nov 2025) EndedAt: 2025-11-13 23:57:12 -0500 (Thu, 13 Nov 2025) EllapsedTime: 10.2 seconds RetCode: 0 Status: OK PackageFile: SIMLR_1.37.0.tgz PackageFileSize: 4.251 MiB