Package: SIMD Version: 1.29.0 Command: /Library/Frameworks/R.framework/Resources/bin/R CMD INSTALL SIMD StartedAt: 2025-11-13 15:02:06 -0500 (Thu, 13 Nov 2025) EndedAt: 2025-11-13 15:02:16 -0500 (Thu, 13 Nov 2025) EllapsedTime: 10.8 seconds RetCode: 0 Status: OK