Package: SIMD Version: 1.29.0 Command: /Library/Frameworks/R.framework/Resources/bin/R CMD build --keep-empty-dirs --no-resave-data SIMD StartedAt: 2025-11-13 17:43:37 -0500 (Thu, 13 Nov 2025) EndedAt: 2025-11-13 17:43:42 -0500 (Thu, 13 Nov 2025) EllapsedTime: 5.1 seconds RetCode: 0 Status: OK PackageFile: SIMD_1.29.0.tar.gz PackageFileSize: 332.8 KiB