Package: SIMD Version: 1.29.0 Command: rm -rf SIMD.buildbin-libdir && mkdir SIMD.buildbin-libdir && /Users/biocbuild/BBS/utils/build-universal.sh SIMD_1.29.0.tar.gz /Library/Frameworks/R.framework/Resources/bin/R SIMD.buildbin-libdir StartedAt: 2025-11-14 23:52:15 -0500 (Fri, 14 Nov 2025) EndedAt: 2025-11-14 23:52:18 -0500 (Fri, 14 Nov 2025) EllapsedTime: 3.1 seconds RetCode: 0 Status: OK PackageFile: SIMD_1.29.0.tgz PackageFileSize: 359 KiB